BEGIN:VCALENDAR
VERSION:2.0
PRODID:-//wp-events-plugin.com//7.2.3.1//EN
TZID:America/New_York
X-WR-TIMEZONE:America/New_York
BEGIN:VEVENT
UID:205@foundationscps.org
DTSTART;TZID=America/Kentucky/Louisville:20210205T180000
DTEND;TZID=America/Kentucky/Louisville:20210205T200000
DTSTAMP:20210112T180522Z
URL:https://www.foundationscps.org/events/teacher-of-the-year-celebration-
 presented-by-addition-financial/
SUMMARY:Teacher of the Year Celebration presented by Addition Financial
DESCRIPTION:Join Seminole County Public Schools in Celebrating Our Teachers
 !\nThis virtual event showcases each SCPS Teacher of the Year and the anno
 uncement of our district-wide winner! SCPS leadership and members of the c
 ommunity come together to help celebrate these amazing teachers who keep o
 ur A-rated school district going strong!\n\nHelp us honor the best and bri
 ghtest Seminole County educators during a year like no other. The district
 -wide winner will go on to represent Seminole County Public Schools in Tal
 lahassee and be considered for the State of Florida’s Teacher of the Yea
 r. This virtual event will allow our Teachers of the Year to share this ho
 nor and memorable experience with their peers\, family\, friends and SCPS 
 leadership.\n\nWe invite you to "join us" in celebrating our teachers!\n\n
 Every teacher is a winner! We honor them with a bag full of treats from ou
 r generous community. If you are interested in placing items in the goody 
 bags or have questions regarding the event\, please contact SCPS Community
  Involvement Manager\, Misa Mills at 407-320-0178 or misa_mills@scps.k12.f
 l.us.\nProudly Presented by\n\n\n&nbsp\;\n\nIf you are interested in spons
 oring the Teacher of the Year Celebration\, please register here or contac
 t The Foundation's Executive Director\, Jean Van Smith  at 407-320-0176 
 or vansmijz@scps.k12.fl.us.\n\n
ATTACH;FMTTYPE=image/jpeg:https://www.foundationscps.org/wp-content/upload
 s/2020/12/TOY-e1607030699887.jpg
CATEGORIES:SCPS Events
END:VEVENT
BEGIN:VTIMEZONE
TZID:America/Kentucky/Louisville
X-LIC-LOCATION:America/Kentucky/Louisville
BEGIN:STANDARD
DTSTART:20201101T010000
TZOFFSETFROM:-0400
TZOFFSETTO:-0500
TZNAME:EST
END:STANDARD
END:VTIMEZONE
END:VCALENDAR